BEGIN:VCALENDAR
VERSION:2.0
PRODID:-//10 Barrel Brewing Co. - ECPv6.15.12.2//NONSGML v1.0//EN
CALSCALE:GREGORIAN
METHOD:PUBLISH
X-WR-CALNAME:10 Barrel Brewing Co.
X-ORIGINAL-URL:https://10barrel.com
X-WR-CALDESC:Events for 10 Barrel Brewing Co.
REFRESH-INTERVAL;VALUE=DURATION:PT1H
X-Robots-Tag:noindex
X-PUBLISHED-TTL:PT1H
BEGIN:VTIMEZONE
TZID:UTC
BEGIN:STANDARD
TZOFFSETFROM:+0000
TZOFFSETTO:+0000
TZNAME:UTC
DTSTART:20180101T000000
END:STANDARD
END:VTIMEZONE
BEGIN:VEVENT
DTSTART;TZID=UTC:20191109T140000
DTEND;TZID=UTC:20191109T230000
DTSTAMP:20260419T202333
CREATED:20190925T160957Z
LAST-MODIFIED:20191105T155741Z
UID:8099-1573308000-1573340400@10barrel.com
SUMMARY:Cali Love Music & Arts Festival
DESCRIPTION:The Cali Love Music and Arts Festival named after our brewery’s most popular ‘Cali Love IPA’ is an homage to the love we have for our California home. We’re stoked on the active nature of our city\, the creativity of our people\, and of course\, the passion we have for beer. Cali Love Music and Arts Festival aims to tie these three elements together into a kick-ass day of interactive and live art\, 3 stages of local music\, and damn good beer!! \nMusic: \nMain Stage: \n2pm-3pm: Tape Heads \n4pm-5pm: Sensi Trails \n6pm-7pm: SYNRGY \n8pm-9pm: Project out of Bounds \n10pm-11pm HEADLINER: Th3rd Coast Roots \nSunset Sounds Stage: \n3pm-4pm: The Ghost Dance \n5pm-6pm: Drug Hunt \n7pm-8pm: The Frets \n9pm-10pm: Aviator Stash \nPatio Grooves Stage: \n6pm-11pm: Nor Cal vs. So Cal Silent Disco by DJs Bubba Cortez and Vinny Bravo \nLocal Artists & Vendors \nArt in Flexion \nAleck Christian \nShaka Tie Dyes \nBuelaphant Jewelry \nOriginal Grain \n \nRSVP & Tickets: https://www.eventbrite.com/e/cali-love-music-arts-festival-tickets-73852945147
URL:https://10barrel.com/event/cali-love-music-arts-festival/
LOCATION:10 Barrel San Diego Pub\, 1501 E Street\, San Diego\, CA\, 92101\, United States
ATTACH;FMTTYPE=image/png:/wp-content/uploads/2019/09/Screen-Shot-2019-09-23-at-11.39.14-AM.png
END:VEVENT
END:VCALENDAR